BEGIN:VCALENDAR
VERSION:2.0
PRODID:-//Greenova - ECPv6.13.1//NONSGML v1.0//EN
CALSCALE:GREGORIAN
METHOD:PUBLISH
X-ORIGINAL-URL:https://greenova.id
X-WR-CALDESC:Events for Greenova
REFRESH-INTERVAL;VALUE=DURATION:PT1H
X-Robots-Tag:noindex
X-PUBLISHED-TTL:PT1H
BEGIN:VTIMEZONE
TZID:Asia/Jakarta
BEGIN:STANDARD
TZOFFSETFROM:+0700
TZOFFSETTO:+0700
TZNAME:WIB
DTSTART:20220101T000000
END:STANDARD
END:VTIMEZONE
BEGIN:VEVENT
DTSTART;TZID=Asia/Jakarta:20220805T140000
DTEND;TZID=Asia/Jakarta:20220812T160000
DTSTAMP:20260420T020009
CREATED:20220729T081059Z
LAST-MODIFIED:20240403T062226Z
UID:9021-1659708000-1660320000@greenova.id
SUMMARY:Webinar Sistem Managemen Energi
DESCRIPTION:Pemerintah Indonesia telah berkomitmen untuk berkontribusi dalam penurunan emisi GRK. PP No.70 Tahun 2009 telah menyatakan bahwa pengguna Energi yang mengkonsumsi energi > 6000 ToE per tahun wajib menerapkan Manajemen Energi. \nWebinar ini bermanfaat bagi C Level atau Manajer yang ingin meningkatkan produktivitas dan daya saing dengan menerapkan EnMS\, serta berkontribusi untuk bumi yang lebih baik. \nSave the date✍ :\n📆 Jum’at\, 05 Agustus 2022\n⏰ 14:00 – 16.00 WIB\n🎥 Via Zoom \nLink Pendaftaran : https://bit.ly/PendaftaranwebinarGreenova \nCP : Iis (083815886197) \nLet’s Join With Us! \n 
URL:https://greenova.id/event/webinar-sistem-managemen-energi/
LOCATION:Online\, Jakarta\, Jakarta\, Jakarta\, 10250\, Indonesia
CATEGORIES:Seminars
ATTACH;FMTTYPE=image/jpeg:https://greenova.id/wp-content/uploads/2022/07/WhatsApp-Image-2022-07-29-at-11.25.47.jpeg
ORGANIZER;CN="Greenova":MAILTO:cs@greenova.id
END:VEVENT
END:VCALENDAR